BEGIN:VCALENDAR
VERSION:2.0
PRODID:-//wp-events-plugin.com//6.6.4.4//EN
BEGIN:VEVENT
UID:2@millenniumperformance.de
DTSTART:20180429T100000Z
DTEND:20180429T170000Z
DTSTAMP:20180215T133428Z
URL:https://millenniumperformance.de/veranstaltungen/structural-powerbuild
 ing-fuer-crossfit-athleten/
SUMMARY:Structural Powerbuilding für CrossFit Athleten
DESCRIPTION:Ein ganzer Tag Wissen und Workouts die dich direkt weiterbringe
 n und dir bei deinen täglichen Trainings helfen.\n\nWarum?\n\nEine Kette 
 ist nur so stark wie ihr schwächstes Glied.\n\nOb dein persönliches "sex
 y Movement" der Snatch ist oder der Butterfly Pullup. Mehr ist immer besse
 r!\nOb es mehr wird oder schneller hängt aber nicht immer davon ob du all
 es gibst\, sondern manchmal auch davon wieviel ein Teil von dir geben kann
 .\n\nStarker Latissimus &lt\;&gt\; schwacher Bizeps\nStarker Quadrizeps &l
 t\;&gt\; schwacher Rücken\nStarker Trizeps &lt\;&gt\; schwache Schultern\
 n\n&nbsp\;\n\nhttps://www.youtube.com/watch?v=JScJUT_lkMQ\n\nWie man herau
 sfindet wo der Schwachpunkt ist und was dann zu tun ist erklären Christia
 n Kuhn und Frederic Kobuss in diesem 2 tägigen praxisbezogenen Seminar.\n
 \n&nbsp\;\n\nWas?\n\n2 Theorieeinheiten\n2 Praxiseinheiten\nschriftliches 
 Handout\nPostworkout Shake\ngemeinsames Mittagessen ( dein Filetsteak muss
 t du leider selbst zahlen)\nYPSI-Aminoelektrolytkomplex\nLearnings\,Gainz 
 &amp\; Knowledge\n\nWer?\n\nCrossfit-Athleten und solche die es werden wol
 len\n\nWieviel?\n\n129\,- regulärer Preis\n99\,- Frühbucherpreis ( bis 2
 8.2.17 Zahlungseingang)\n\nWann?\n\n29.04.18 (Sonntag)\n\nWo?\n\nMOVE am S
 ee\nRecklinghäuser Straße 119\n45721 Haltern am See\n\nAnmeldung per Mai
 l an\nFrederic.Kobuss@web.de\n\nZahlungseingang= Teilnahmebestätigung
ATTACH;FMTTYPE=image/jpeg:https://millenniumperformance.de/wp-content/uplo
 ads/2018/02/26815475_875797892601682_4641261212514387305_n.jpg
LOCATION:Move am See\, Recklinghäuser Straße 119\, Haltern am See\, NRW\,
  45721\, Deutschland
X-APPLE-STRUCTURED-LOCATION;VALUE=URI;X-ADDRESS=Recklinghäuser Straße 119
 \, Haltern am See\, NRW\, 45721\, Deutschland;X-APPLE-RADIUS=100;X-TITLE=M
 ove am See:geo:0,0
END:VEVENT
END:VCALENDAR