BEGIN:VCALENDAR
VERSION:2.0
PRODID:-//wp-events-plugin.com//6.6.4.4//EN
BEGIN:VEVENT
UID:5@millenniumperformance.de
DTSTART:20200308T100000Z
DTEND:20200308T140000Z
DTSTAMP:20190918T140900Z
URL:https://millenniumperformance.de/veranstaltungen/specific-squat-sessio
 n/
SUMMARY:Specific Squat Session
DESCRIPTION:Hier geht es rein um deine Kniebeuge mit dem Ziel:\n\n 	deine T
 echnik zu optimieren und zu festigen\n 	neue Variationen der klassischen K
 niebeuge lernen\n 	schneller Fortschritt machen als deine Konkurrenz\n 	de
 ine Leistung in der Kniebeuge steigern\n 	langfristige Erfolge erzielen\n\
 n&nbsp\;\n\nHier werden dir innerhalb von 4h unterschiedliche Varianten de
 r Kniebeuge erklärt. Du führst diese Variationen alle selbst aus und wir
 st angeleitet und korrigiert. Die Session besteht zu 95% aus Praxis und wi
 rd in einer kleinen Gruppe von maximal 8 Teilnehmern durchgeführt um die 
 bestmögliche Optimierung deiner individuellen Technik zu ermöglichen.\n\
 n&nbsp\;\n\nDieser Workshop ist die Lösung für Dich. Wenn du Kniebeugen 
 in deinem Training machst\, solltest du hier teilnehmen.\nWeil du mit Sich
 erheit ( ja garantiert) hier lernen wirst wie du dein Training auf das nä
 chste Level bringst. Weil du deine Grenzen hier weiter verschiebst und bes
 ser wirst. Weil deine Kniebeuge danach stärker sein wird als je zuvor!\n\
 n&nbsp\;\n\nVorraussetzung ist\, dass du mit der Basisvariante der Kniebeu
 ge mit der Langhantel bereits Erfahrung hast. Du musst kein Profi sein. Da
 s wirst du hier!\n\n&nbsp\;\n\nWann:  08.03.2020  10:00-14:00\n\nInvesti
 tion:\n\n59\,-€ Zahlungseingang = Teilnahmebestätigung\, Kein Rücktrit
 t möglich\, Übertrag jederzeit möglich.\n\n&nbsp\;\n\nWas du bekommst:\
 n\n 	7 Trainingseinheiten der Kniebeuge in unterschiedlichen Varianten\n 	
 verschiedene Tools um dein Training zu variieren\n 	1 individuelle Technik
 analyse deiner Kniebeuge\n 	YPSI Amino-Elektrolytkomplex während des Trai
 nings( Flatrate)\n 	Protein-Shake nach dem Training\n 	Handout mit Erklär
 ungen zu jeder Variante und wann welche in deinem Training Sinn macht\n\n&
 nbsp\;\n\nGeeignet für jeden der Kniebeugen macht.\n\nBeschränkt auf 8 T
 eilnehmer\n\n&nbsp\;\n\nAnmeldung mit Rechnungsadresse an: ergebnisse@mil
 lenniumperformance.de\n\nZahlungseingang ist Teilnahmbestätigung
ATTACH;FMTTYPE=image/jpeg:https://millenniumperformance.de/wp-content/uplo
 ads/2017/10/P1080795-e1508337787909.jpg
LOCATION:Millennium Performance\, Schinkelstraße 50\, Düsseldorf\, NRW\, 
 40211\, Deutschland
X-APPLE-STRUCTURED-LOCATION;VALUE=URI;X-ADDRESS=Schinkelstraße 50\, Düsse
 ldorf\, NRW\, 40211\, Deutschland;X-APPLE-RADIUS=100;X-TITLE=Millennium Pe
 rformance:geo:0,0
END:VEVENT
END:VCALENDAR