BEGIN:VCALENDAR
VERSION:2.0
PRODID:-//wp-events-plugin.com//6.6.4.4//EN
BEGIN:VEVENT
UID:14@millenniumperformance.de
DTSTART:20190616T100000Z
DTEND:20190616T140000Z
DTSTAMP:20190523T140236Z
URL:https://millenniumperformance.de/veranstaltungen/mobility-meets-power-
 2-0-upper-body/
SUMMARY:Mobility meets Power 2.0 Upper Body
DESCRIPTION:&nbsp\;\n\n&nbsp\;\n\nPower-Coach Christian\n\n&nbsp\;\n\nPower
  im Oberkörper hängt noch stärker von der strukturellen Balance ab\, al
 s im Unterkörper.\n\n&nbsp\;\n\n[caption id="attachment_1421" align="alig
 nright" width="300"] DBBL Athletin Franziska Worthmann beim Schultertraini
 ng[/caption]\n\nDarum sprechen wir nicht nur darüber wie es effektiv mög
 lich ist\,\nseine Power zu steigern\, sondern auch darüber was es braucht
 \,\num dabei stabil zu sein.\n\nDenn man kann keine Kanone in einem Kanu a
 bfeuern.\n\nDein Arm ist die Kanone und deine Schulter das Kanu.\nWillst d
 u die volle Feuerkraft\, braucht deine Kanone festen Halt!\n\n&nbsp\;\n\n&
 nbsp\;\n\n&nbsp\;\n\n&#x2757\;&#xfe0f\;Mobility-Coach Manuel:\n\nWie in un
 serem ersten Workshop “Mobility meets Power - “lower body” werden wi
 r Dir wieder Grundsätze der Bewegungslehre vermitteln. Allerdings auch ko
 mplexes Wissen einer adäquaten\, menschlichen Biomechanik. In diesem Teil
  wird die Wirbelsäule\, Core und Schulterblätter eine entscheidende Roll
 e spielen. Schnell wird Dir klar werden\, wie schwer sich hier die Perform
 ance vom Unterkörper entkoppeln lässt.\nMöchtest Du im Weightlifting\, 
 Gymnastic\, Calisthenics\, Crossfit\, Leichtathletik besser werden\, sollt
 est Du Dir jetzt Dein neues Upgrade sichern.\n\n&#x25aa\;&#xfe0f\;Preis 89
 €/ Person\n\nAnmeldung unter ergebnisse@millenniumperformance.de\n\nAnme
 ldungsbestätigung folgt bei Zahlungseingang.
ATTACH;FMTTYPE=image/jpeg:https://millenniumperformance.de/wp-content/uplo
 ads/2019/05/55244620_997321003793141_7106636463453765632_n.jpg
LOCATION:Millennium Performance\, Schinkelstraße 50\, Düsseldorf\, NRW\, 
 40211\, Deutschland
X-APPLE-STRUCTURED-LOCATION;VALUE=URI;X-ADDRESS=Schinkelstraße 50\, Düsse
 ldorf\, NRW\, 40211\, Deutschland;X-APPLE-RADIUS=100;X-TITLE=Millennium Pe
 rformance:geo:0,0
END:VEVENT
END:VCALENDAR