BEGIN:VCALENDAR
VERSION:2.0
PRODID:-//wp-events-plugin.com//6.6.4.4//EN
BEGIN:VEVENT
UID:8@millenniumperformance.de
DTSTART:20180627T180000Z
DTEND:20180627T200000Z
DTSTAMP:20180604T115240Z
URL:https://millenniumperformance.de/veranstaltungen/ernaehrung-basic-work
 shop/
SUMMARY:Ernährung Basic Workshop
DESCRIPTION:Ernährung Basic Workshop\n\nErnährung Basic Workshop\n\n\n\n\
 n\n \n\n\n\n\n\n \n\n\nInhalte in diesem Workshop:\n\n\n \n\n\n\n\n\n 
 \n\n\nMakronährstoffe und deren Funktionen sowie Wirkung im Körper\n\n\n
  \n\n\nWertigkeit von Protein und Bedeutung von Aminosäuren\n\n\n \n\n\
 nVerständiss von Mahlzeitenfrequenz und Menge\n\n\n \n\n\nWorauf ist bei
  welchem Ziel zu achten\n\n\n \n\n\n \n\n\n \n\n\nWas du am Ende wissen
  und umsetzen wirst:\n\n\n \n\n\n \n\n\n \n\n\nWorauf beim Einkauf zu a
 chten ist um bestmögliche Fortschritte zu machen \n\n\n \n\n\nWelche Nah
 rungsmittel deine Gesundheit fördern und dir helfen dich stark und wohl z
 u fühlen\n\n\n \n\n\nWie du mit Nahrung deine Leistungsfähigkeit steige
 rst und auch deinen Schlaf verbesserst\n\n\n \n\n\nWas für dein persönl
 iches Ziel wichtig ist\n\n\n \n\n\n\n\n\n \n\n\nAufklärung über Mythen
  und Irrtümer:\n\n\n \n\n\n\n\n\n \n\n\nAbends essen oder nicht?\n\n\n
  \n\n\nKohlenhydrate ja oder nein?\n\n\n \n\n\nFett macht fett oder doch
  nicht?\n\n\n \n\n\nCardio ist das Non Plus Ultra für Fatloss! Oder doch
  nicht?\n\n\n \n\n\nFleisch ist ungesund! Oder doch nicht?\n\n\n \n\n\n\
 n\n\n \n\n\n\n\n\n \n\n\nWas gibt es zusätzlich:\n\n\n \n\n\n\n\n\n \
 n\n\n+ schriftliches Handout mit allen Punkten zum Nachlesen\n\n\n+ Geträ
 nkeflatrate\n\n\n+ Lösungen für deine Probleme\n\n\n+ Antworten auf dein
 e Fragen\n\n\n \n\n\nWann:\n\n\n \n\n\n27.06.2018 18:00 – 20:00\n\n\n
  \n\n\nFür wen:\n\n\n \n\n\nJeden der Fragen zu den Grundlagen einer ge
 sunden und zielführenden Ernährung hat und Antworten sucht\n\n\n \n\n\n
 Wo:\n\n\n \n\n\nMillennium Performance Training\n\n\nSchinkelstraße 50 D
 üsseldorf\n\n\n \n\n\nWieviel:\n\n\n \n\n\n39\,-€ Vorkasse Zahlungsei
 ngang = Teilnahmebestätigung\, 4 Wochen vorher kein Storno mehr\n\n\n \n
 \n\nFür jeden der aktuell Coaching\, Gruppentraining oder Personal Traini
 ng bei MP-Training nutzt\, gilt ein Nachlass von 50%. Für dich und maxima
 l eine weitere Person.\n\n\n \n\n\nAnmeldung per Mail an: ergebnisse@mill
 enniumperformance.de\n\n&nbsp\;\n\n&nbsp\;\n\n&nbsp\;
ATTACH;FMTTYPE=image/jpeg:https://millenniumperformance.de/wp-content/uplo
 ads/2015/02/Fotolia_77967427_M1-e1426079990151.jpg
LOCATION:Millennium Performance\, Schinkelstraße 50\, Düsseldorf\, NRW\, 
 40211\, Deutschland
X-APPLE-STRUCTURED-LOCATION;VALUE=URI;X-ADDRESS=Schinkelstraße 50\, Düsse
 ldorf\, NRW\, 40211\, Deutschland;X-APPLE-RADIUS=100;X-TITLE=Millennium Pe
 rformance:geo:0,0
END:VEVENT
END:VCALENDAR