BEGIN:VCALENDAR
VERSION:2.0
PRODID:-//wp-events-plugin.com//6.6.4.4//EN
BEGIN:VEVENT
UID:4@millenniumperformance.de
DTSTART:20191012T100000Z
DTEND:20191012T140000Z
DTSTAMP:20190724T145239Z
URL:https://millenniumperformance.de/veranstaltungen/1246/
SUMMARY:One Day Arm Cure
DESCRIPTION:&nbsp\;\n\nDie One Day Day Arm Cure bei Millennium Performance 
 Training wird im Gegensatz zu der ursprünglichen Version von Charles Poli
 quin\, sogar mit komplexen Übungen\, statt rein mit Armbeuge/ -streckübu
 ngen durchgeführt. Härter\, aber besser!\nDenn so werden mehr Muskeln\, 
 wie die Brustmuskulatur\, Schultern und der Rücken\, angesprochen und zu 
 brutalem Wachstum angeregt.\n\nDie One Day Arm Cure beinhaltet neben dem T
 raining\, auch einen Teil\, in welchem ausführlich erklärt wird\, wie ih
 r euer Oberkörpertraining effektiver gestalten könnt und warum gewisse V
 ariationen für dich genau Sinn machen\, andere Variationen eher für dein
 en Trainingsbuddy.\n\nSo dominierst du in Zukunft im Gym den Freihantelber
 eich\, dass selbst die Flächentrainer dich um Rat fragen! Das ist Teilneh
 mern der vorherigen Workshops tatsächlich passiert.\n\nDies alles bekommt
  ihr auch in Papierform um es jederzeit nachlesen zu können. Inklusive ve
 rschiedener\, mehrphasiger Trainingspläne für unterschiedlichste Trainin
 gsziele.\n\nDie Verpflegung während des Trainings und danach ist inbegrif
 fen.\n\n&nbsp\;\n\nKurz gesagt bekommst du:\n\n 	einen Bomben Trainingstag
  wie du ihn noch nie hattest\n 	detailliertes Handout und Trainingspläne 
 für alle Ziele\n 	großartige\, motivierende Atmosphäre\n 	individuelle 
 Einweisung in effektivste Trainingsmöglichkeiten\n 	Nutzung von Tools wie
  der Power Curl Bar\, Axle\, Swiss Bar\, Chains\, Poliquin Angled Dual Bar
 \, Watson Kettlebells etc...\n 	Intensivierungstechniken zur Maximierung 
 deiner Erfolge in der direkten Anwendung\n 	6 Trainingseinheiten für Schu
 ltern\, Brust\, Rücken und vor allem Arme\n 	von neuronaler Aktivierung b
 is zur metabolischen Erschöpfung für maximalen Wachstumsreiz\n 	Amino-El
 ektrolyt Komplex Flatrate während des Trainings\n 	anaboles( alles legal
 \, tut mir leid^^) Postworkout Shake nach dem Training\n\n \nPower Curl 
 Bar\n&nbsp\;\n\nDie One Day Arm Cure ist etwas für dich wenn:\n\n 	du ech
 tes Training magst\n 	du bereits mindestens 1 Jahr Krafttraining machst\n 
 	du wissen willst wie du deine Trainingsleistung weiter steigern kannst\n 
 	du an einem Punkt angekommen bist\, wo du nicht weiter kommst\n 	du neuen
  Input brauchst\n 	du Lösungen für deine Fragen suchst\n 	du Muskeln auf
 bauen und stärker werden willst\n 	du mal wieder richtig Muskelkater habe
 n willst\n\n\nPoliquin Angled Dual Bar\n&nbsp\;\n\nWo: Der Workshop findet
  in der Schinkelstraße 50\, Düsseldorf bei Millennium Performance Traini
 ng statt.\n\nWann: Sonntag den 09.09.2018   10:00-14:00 Uhr\n\nWas: Kos
 ten: Frühbucherpreis bei Zahlungseingang bis 30.06.2018 29\,-\n\nRegulär
 er Preis 49\,-€ ( Zahlungseingang = Teilnahmebestätigung)\n\nFür jeden
  der aktuell Coaching\, Gruppentraining oder Personal Training bei MP-Trai
 ning nutzt gilt ein Nachlass von 50% auf beide Preise. Für dich und maxim
 al eine weitere Person.\n\nTeilnehmerzahl auf 12 Teilnehmer beschränkt\n\
 nAnmeldung per E-Mail an: ergebnisse@millenniumperformance.de
ATTACH;FMTTYPE=image/jpeg:https://millenniumperformance.de/wp-content/uplo
 ads/2016/06/Fotolia_80044052_S.jpg
LOCATION:Millennium Performance\, Schinkelstraße 50\, Düsseldorf\, NRW\, 
 40211\, Deutschland
X-APPLE-STRUCTURED-LOCATION;VALUE=URI;X-ADDRESS=Schinkelstraße 50\, Düsse
 ldorf\, NRW\, 40211\, Deutschland;X-APPLE-RADIUS=100;X-TITLE=Millennium Pe
 rformance:geo:0,0
END:VEVENT
END:VCALENDAR